BEGIN:VCALENDAR
VERSION:2.0
PRODID:-//wp-events-plugin.com//7.2.3.1//EN
TZID:Europe/London
X-WR-TIMEZONE:Europe/London
BEGIN:VEVENT
UID:60@sciencefictionbookclub.org
DTSTART;TZID=Europe/London:20120514T190000
DTEND;TZID=Europe/London:20120514T220000
DTSTAMP:20240924T152108Z
URL:https://www.sciencefictionbookclub.org/events/36942592/
SUMMARY:Natural History - Justina Robson
DESCRIPTION:Advances in genetic engineering have created the Forged\, human
 /machine hybrids that carry out tasks too mundane or too dangerous for the
  UnEvolved\, as non-Forged humans are called. Soon after a Forged explorer
 \, Voyager Lonestar Isol\, returns from a 15-year trip with a material whi
 ch seems to do what ever the owner imagines. This material\, nicknamed "Th
 e Stuff"\, quickly changes the balance of power between the Forged and UnE
 volved\, which may even lead to war...\n\nFans of the sweeping\, political
 ly and psychologically aware space opera of Iain M. Banks and Ken MacLeod 
 will be intrigued by Robson's setting and the new slant she takes on unive
 rsal questions.\n\nPhilip K. Dick Award 2006 - Finalist\nJohn W Campbell A
 ward 2004 - Runner up (2nd place)\n\n\n
LOCATION:The Gladstone\, 64 Lant Street\, Borough\, London\, SE1 1QN\, Unit
 ed Kingdom
GEO:51.500958;-0.095183
X-APPLE-STRUCTURED-LOCATION;VALUE=URI;X-ADDRESS=64 Lant Street\, Borough\, 
 London\, SE1 1QN\, United Kingdom;X-APPLE-RADIUS=100;X-TITLE=The Gladstone
 :geo:51.500958,-0.095183
END:VEVENT
BEGIN:VTIMEZONE
TZID:Europe/London
X-LIC-LOCATION:Europe/London
BEGIN:DAYLIGHT
DTSTART:20120325T020000
TZOFFSETFROM:+0000
TZOFFSETTO:+0100
TZNAME:BST
END:DAYLIGHT
END:VTIMEZONE
END:VCALENDAR