BEGIN:VCALENDAR
VERSION:2.0
PRODID:-//wp-events-plugin.com//7.2.3.1//EN
TZID:Europe/London
X-WR-TIMEZONE:Europe/London
BEGIN:VEVENT
UID:236@sciencefictionbookclub.org
DTSTART;TZID=Europe/London:20190513T190000
DTEND;TZID=Europe/London:20190513T220000
DTSTAMP:20260213T174454Z
URL:https://www.sciencefictionbookclub.org/events/259697692/
SUMMARY:The Book of Joan - by Lidia Yuknavitch
DESCRIPTION:DOES JOAN OF ARC WORK IN THE 21st CENTURY?\nLETS SEE!\n\nIn the
  near future\, world wars have transformed the earth into a battleground. 
 Fleeing the unending violence and the planet’s now-radioactive surface\,
  humans have regrouped to a mysterious platform known as CIEL\, hovering o
 ver their erstwhile home. The changed world has turned evolution on its he
 ad: the surviving humans have become sexless\, hairless pale-white creatur
 es floating in isolation\, inscribing stories upon their skin.\n\nOut of t
 he ranks of the endless wars rises Jean de Men\, a charismatic and bloodth
 irsty cult leader who turns CIEL into a quasi-corporate police state. A gr
 oup of rebels unite to dismantle his iron rule—galvanized by the heroic 
 song of Joan\, a child-warrior who possesses a mysterious force that lives
  within her and communes with the earth. When de Men and his armies turn J
 oan into a martyr\, the consequences are astonishing. And no one—not the
  rebels\, Jean de Men\, or even Joan herself—can foresee the way her sto
 ry and unique gift will forge the destiny of an entire world for generatio
 ns.\n\nA riveting tale of destruction and love found in direst of places
 —even at the extreme end of post-human experience—Lidia Yuknavitch’s
  The Book of Joan raises questions about what it means to be human\, the f
 luidity of sex and gender\, and the role of art as means for survival.\n\n
ATTACH;FMTTYPE=image/jpeg:https://www.sciencefictionbookclub.org/wp-conten
 t/uploads/2026/02/The_Book_of_Joan_-_by_Lidia_Yuknavitch.jpg
CATEGORIES:Book Discussion
LOCATION:The Golden Lion\, 25 King Street\, St James\, London\, SW1Y 6QY\, 
 United Kingdom
GEO:51.506294;-0.137464
X-APPLE-STRUCTURED-LOCATION;VALUE=URI;X-ADDRESS=25 King Street\, St James\,
  London\, SW1Y 6QY\, United Kingdom;X-APPLE-RADIUS=100;X-TITLE=The Golden 
 Lion:geo:51.506294,-0.137464
END:VEVENT
BEGIN:VTIMEZONE
TZID:Europe/London
X-LIC-LOCATION:Europe/London
BEGIN:DAYLIGHT
DTSTART:20190331T020000
TZOFFSETFROM:+0000
TZOFFSETTO:+0100
TZNAME:BST
END:DAYLIGHT
END:VTIMEZONE
END:VCALENDAR