BEGIN:VCALENDAR
VERSION:2.0
PRODID:-//wp-events-plugin.com//7.2.3.1//EN
TZID:Europe/London
X-WR-TIMEZONE:Europe/London
BEGIN:VEVENT
UID:148@sciencefictionbookclub.org
DTSTART;TZID=Europe/London:20140728T190000
DTEND;TZID=Europe/London:20140728T220000
DTSTAMP:20240927T121414Z
URL:https://www.sciencefictionbookclub.org/events/165839002/
SUMMARY:The Diamond Age - Neal Stephenson (Hugo and Locus Award Winner) **E
 XTRA DATE**
DESCRIPTION:Decades into the future\, near the ancient city of Shanghai\, a
  brilliant nanotechnologist named John Percival Hackworth has broken the r
 igorous moral code of his tribe\, the powerful neo-Victorians\, by making 
 an illicit copy of a state-of-the-art interactive device called "A Young L
 ady's Illustrated Primer".\n\n1995 HOMer Award - Novel (Nomination) \n1996
  John W. Campbell Memorial Award - Second Place (Place: 2) \n1996 Hugo Awa
 rd - Best Novel (Win) \n1996 Locus Poll Award - Best SF Novel (Place: 1) \
 n1996 SF Chronicle Award - Novel (Win) \n1996 Prometheus Award - Prometheu
 s (Best Libertarian SF Novel) (Nomination) \n1997 Nebula Award - Novel (No
 mination) \n\n
LOCATION:Mug House\, 1-3 Tooley Street\, London Bridge\, London\, SE1 2PF\,
  United Kingdom
GEO:51.506486;-0.087755
X-APPLE-STRUCTURED-LOCATION;VALUE=URI;X-ADDRESS=1-3 Tooley Street\, London 
 Bridge\, London\, SE1 2PF\, United Kingdom;X-APPLE-RADIUS=100;X-TITLE=Mug 
 House:geo:51.506486,-0.087755
END:VEVENT
BEGIN:VTIMEZONE
TZID:Europe/London
X-LIC-LOCATION:Europe/London
BEGIN:DAYLIGHT
DTSTART:20140330T020000
TZOFFSETFROM:+0000
TZOFFSETTO:+0100
TZNAME:BST
END:DAYLIGHT
END:VTIMEZONE
END:VCALENDAR